BEGIN:VCALENDAR
VERSION:2.0
PRODID:icalendar-ruby
CALSCALE:GREGORIAN
METHOD:PUBLISH
BEGIN:VEVENT
DTSTAMP:20260420T084509Z
UID:36-878630@conradnewlife.com
DTSTART:20260428T003000Z
DTEND:20260428T013000Z
CLASS:PUBLIC
CREATED:20260414T121629
DESCRIPTION:Monday\, April 27th at 6:30 p.m. at Conrad High School Auditori
 um the Montana Department of Justice's Office of Consumer Protection is wo
 rking with the Conrad Community Education Foundation to educate the commun
 ity on scam and fraud awareness.\nThis is for all age groups and generatio
 ns because all can be affected. Gain important information to protect your
 self and your family. There will be a question-and-answer session followin
 g the presentation.
LAST-MODIFIED:20260414T121629
LOCATION:Conrad High School Auditorium
SUMMARY:Scam and Fraud Awareness Presentation
URL;VALUE=URI:https://conradnewlife.com/events/scam-and-fraud-awareness-pre
 sentation/2026-04-27
ATTACH;FILENAME=Scam-and-Fraud-Awareness-with-Border.jpg;FMTTYPE=image/jpeg
 :https://dq5pwpg1q8ru0.cloudfront.net/2026/04/14/18/16/28/c29e6dd9-d5fb-40
 46-9cad-438a8cf29b2f/Scam-and-Fraud-Awareness-with-Border.jpg
END:VEVENT
END:VCALENDAR
