BEGIN:VCALENDAR
VERSION:2.0
PRODID:icalendar-ruby
CALSCALE:GREGORIAN
METHOD:PUBLISH
BEGIN:VEVENT
DTSTAMP:20260426T022437Z
UID:6-897897@conradnewlife.com
DTSTART:20261101T170000Z
DTEND:20261101T183000Z
CLASS:PUBLIC
CREATED:20260425T185816
DESCRIPTION:
LAST-MODIFIED:20260425T185816
LOCATION:New Life Fellowship
SUMMARY:Sunday Worship
URL;VALUE=URI:https://conradnewlife.com/events/sunday-worship/2026-11-01
ATTACH;FILENAME=2D4A1670.jpg;FMTTYPE=image/jpeg:https://dq5pwpg1q8ru0.cloud
 front.net/2022/08/29/21/12/10/1913ea06-2103-4400-b01a-80d437581e7b/2D4A167
 0.jpg
END:VEVENT
END:VCALENDAR
