BEGIN:VCALENDAR
VERSION:2.0
PRODID:icalendar-ruby
CALSCALE:GREGORIAN
METHOD:PUBLISH
BEGIN:VEVENT
DTSTAMP:20260425T102757Z
UID:8-896319@conradnewlife.com
DTSTART:20261022T000000Z
DTEND:20261022T013000Z
CLASS:PUBLIC
CREATED:20260424T194401
DESCRIPTION:
LAST-MODIFIED:20260424T194401
LOCATION:Prairie View School: West Door Entrance
SUMMARY:YTH456: 4th-6th graders
URL;VALUE=URI:https://conradnewlife.com/events/yth456-4th-6th-graders/2026-
 10-21
ATTACH;FILENAME=ogP9.jpg;FMTTYPE=image/jpeg:https://dq5pwpg1q8ru0.cloudfron
 t.net/2022/08/30/09/58/13/a8d8d30e-1935-48e4-b940-12ae7042b90f/ogP9.jpg
END:VEVENT
END:VCALENDAR
