BEGIN:VCALENDAR
VERSION:2.0
PRODID:icalendar-ruby
CALSCALE:GREGORIAN
METHOD:PUBLISH
BEGIN:VEVENT
DTSTAMP:20260425T142746Z
UID:8-896878@conradnewlife.com
DTSTART:20261112T010000Z
DTEND:20261112T023000Z
CLASS:PUBLIC
CREATED:20260425T081208
DESCRIPTION:
LAST-MODIFIED:20260425T081208
LOCATION:Prairie View School: West Door Entrance
SUMMARY:YTH456: 4th-6th graders
URL;VALUE=URI:https://conradnewlife.com/events/yth456-4th-6th-graders/2026-
 11-11
ATTACH;FILENAME=ogP9.jpg;FMTTYPE=image/jpeg:https://dq5pwpg1q8ru0.cloudfron
 t.net/2022/08/30/09/58/13/a8d8d30e-1935-48e4-b940-12ae7042b90f/ogP9.jpg
END:VEVENT
END:VCALENDAR
